{"text_format":"2","workbook":"xlsx","n_sheets":2,"sheets":["Stage Schedule","Operations Schedule"],"not_rendered":{"charts":0,"images":0,"macros":0,"external_links":0,"defined_names":1,"comments":0,"pivot_tables":0},"unopened":[],"bounds":{"document_bytes":16777216,"sheet_cells":100000,"run_cost":"one","rows_first":2000,"rows_last":500,"rows_between":2000,"halvings":0,"cell_chars":16384,"cell_head_chars":4096},"cells_cut":0,"cells_raw":0,"read":"whole","date_system":"1900"}

{"sheet":"Stage Schedule","index":0,"n_rows":73,"n_cols":12,"rows_kept":73,"cut":false,"hidden":false,"merged":[[61,11,70,11],[1,2,1,8],[13,11,29,11],[40,11,46,11],[47,11,60,11]]}
[]
[null,null,"TOTALS OF THE RALLY"]
[null,null,null,"SS","TRANSIT","TOTAL",null,null,"%"]
[null,null,"Leg 1 (Section 1)",{"$f":"D32","v":37.08},{"$f":"E32","v":52.03},89.11,null,null,{"$f":"D4/F4","v":0.41611491415104923}]
[null,null,"Leg 2 (Sections 2, 3, 4)",{"$f":"D73","v":81},{"$f":"E73","v":90.76},145.07,null,null,{"$f":"D5/F5","v":0.55835114082856552}]
[null,null,"Total -- 15 SS",{"$f":"SUM(D4:D5)","v":118.08},{"$f":"SUM(E4:E5)","v":142.79000000000002},234.18,null,null,{"$f":"D6/F6","v":0.50422751729438886}]
[]
["START Leg 1",{"$nulls":10},"FRIDAY FEBRUARY 18, 2022"]
[]
[null,"TC","LOCATION","SS DIST","TRANSIT DIST","TOTAL DIST","CONTROL","LATENESS TIME","TRANSIT TIME","TARGET TIME","FIRST CAR DUE"]
[]
[null,0,"MTC OUT (Lewiston)",{"$nulls":7},"16:00:00"]
[null,null,"distance to next refuel",{"$f":"-SUM(D14:D30)","v":-37.08},{"$f":"-SUM(E14:E30)","v":-52.03},-89.11]
[null,1,null,null,6.31,{"$f":"E14","v":6.31},null,null,"00:15:00",{"$f":"H13+I14","v":"00:15:00"},{"$f":"K12+J14","v":"16:15:00"},"Section 1"]
[null,"SS 1","FISHLAB-GREASY",8.16,null,null,"00:03:00","00:15:00",null,null,{"$f":"K14+G15","v":"16:18:00"}]
[null,2,null,null,5.23,{"$f":"D15+E16","v":13.39},null,null,"00:15:00",{"$f":"H15+I16","v":"00:30:00"},{"$f":"K15+J16","v":"16:48:00"}]
[null,"SS2","SHORT RANCH",3.29,null,null,"00:03:00","00:07:00",null,null,{"$f":"K16+G17","v":"16:51:00"}]
[null,3,null,null,8.93,{"$f":"D17+E18","v":12.219999999999999},null,null,"00:18:00",{"$f":"H17+I18","v":"00:25:00"},{"$f":"K17+J18","v":"17:16:00"}]
[null,"SS 3","SAGE-ORCHARD",7.09,null,null,"00:03:00","00:12:00",null,null,{"$f":"K18+G19","v":"17:19:00"}]
[null,"3A","TZ IN",null,5.53,{"$f":"D19+E20","v":12.620000000000001},null,null,"00:15:00",{"$f":"H19+I20","v":"00:27:00"},{"$f":"K19+J20","v":"17:46:00"}]
[null,"TZ","TIRE ZONE (Lewiston)"]
[null,"3B","TZ OUT -- REGROUPING IN",null,0.06,null,null,null,"00:15:00","00:15:00",{"$f":"K20+J22","v":"18:01:00"}]
[null,"3C","REGROUPING OUT",null,7.0000000000000007E-2,null,null,null,"00:14:00","00:14:00",{"$f":"K22+J23","v":"18:15:00"}]
[null,4,null,null,6.31,{"$f":"SUM(E22:E24)","v":6.4399999999999995},null,null,"00:15:00",{"$f":"H23+I24","v":"00:15:00"},{"$f":"K23+J24","v":"18:30:00"}]
[null,"SS 4","FISHLAB-GREASY",8.16,null,null,"00:03:00","00:15:00",null,null,{"$f":"K24+G25","v":"18:33:00"}]
[null,5,null,null,5.23,{"$f":"D25+E26","v":13.39},null,null,"00:15:00",{"$f":"H25+I26","v":"00:30:00"},{"$f":"K25+J26","v":"19:03:00"}]
[null,"SS 5","SHORT RANCH",3.29,null,null,"00:03:00","00:07:00",null,null,{"$f":"K26+G27","v":"19:06:00"}]
[null,6,null,null,8.93,{"$f":"D27+E28","v":12.219999999999999},null,null,"00:18:00",{"$f":"H27+I28","v":"00:25:00"},{"$f":"K27+J28","v":"19:31:00"}]
[null,"SS 6","SAGE-ORCHARD",7.09,null,null,"00:03:00","00:12:00",null,null,{"$f":"K28+G29","v":"19:34:00"}]
[null,"6A","MTC IN (Lewiston)",null,5.43,{"$f":"D29+E30","v":12.52},null,null,"00:15:00",{"$f":"H29+I30","v":"00:27:00"},{"$f":"K29+J30","v":"20:01:00"}]
[]
[null,null,"Leg 1 Totals",{"$f":"SUM(D14:D30)","v":37.08},{"$f":"SUM(E14:E30)","v":52.03},{"$f":"SUM(F14:F30)","v":89.11}]
[]
[]
["START Leg 2",{"$nulls":10},"SATURDAY FEBRUARY 19, 2022"]
[]
[null,"TC","LOCATION","SS DIST","TRANSIT DIST","TOTAL DIST","CONTROL","LATENESS TIME","TRANSIT TIME","TARGET TIME","FIRST CAR DUE"]
[]
[null,"6B","MTC OUT (Atlanta)",{"$nulls":7},"10:40:00"]
[null,null,"distance to next refuel",{"$f":"-SUM(D41:D47)","v":-23.08},{"$f":"-SUM(E41:E47)","v":-28.98},{"$f":"-SUM(F41:F47)","v":-45.31}]
[null,7,null,null,6.75,null,null,null,"00:15:00",{"$f":"H40+I41","v":"00:15:00"},{"$f":"K39+J41","v":"10:55:00"},"Section 2"]
[null,"SS 7","HUNTERS-AGREN",7.31,null,null,"00:03:00","00:12:00",null,null,{"$f":"K41+G42","v":"10:58:00"}]
[null,8,null,null,8.14,{"$f":"D42+E43","v":15.45},null,null,"00:17:00",{"$f":"H42+I43","v":"00:29:00"},{"$f":"K42+J43","v":"11:27:00"}]
[null,"SS 8","OLD STATE-HUFF",9.0500000000000007,null,null,"00:03:00","00:15:00",null,null,{"$f":"K43+G44","v":"11:30:00"}]
[null,9,null,null,6.97,{"$f":"D44+E45","v":16.02},null,null,"00:17:00",{"$f":"H44+I45","v":"00:32:00"},{"$f":"K44+J45","v":"12:02:00"}]
[null,"SS 9","MILLS-MEAFORD",6.72,null,null,"00:03:00","00:11:00",null,null,{"$f":"K45+G46","v":"12:05:00"}]
[null,"9A","SERVICE IN",null,7.12,{"$f":"D46+E47","v":13.84},null,null,"00:17:00",{"$f":"H46+I47","v":"00:28:00"},{"$f":"K46+J47","v":"12:33:00"}]
[null,null,"SERVICE A  (Atlanta)",{"$f":"-SUM(D41:D47)","v":-23.08},{"$f":"-SUM(E41:E47)","v":-28.98},-45.31,{"$nulls":5},"Section 3"]
[null,"9B","SERVICE OUT -- REGROUPING IN",{"$nulls":5},"00:35:00","00:35:00",{"$f":"K47+J49","v":"13:08:00"}]
[null,"RZ","REFUEL"]
[null,1,"distance to next refuel",{"$f":"-SUM(D52:D61)","v":-38.049999999999997},{"$f":"-SUM(E52:E61)","v":-26.44},{"$f":"-SUM(F52:F61)","v":-59.06}]
[null,"9C","REGROUPING OUT",{"$nulls":5},"00:14:00","00:14:00",{"$f":"K49+J52","v":"13:22:00"}]
[null,10,null,null,5.43,null,null,null,"00:14:00",{"$f":"H52+I53","v":"00:14:00"},{"$f":"K52+J53","v":"13:36:00"}]
[null,"SS 10","HUNTERS-AGREN",7.31,null,null,"00:03:00","00:12:00",null,null,{"$f":"K53+G54","v":"13:39:00"}]
[null,11,null,null,8.14,{"$f":"D54+E55","v":15.45},null,null,"00:17:00",{"$f":"H54+I55","v":"00:29:00"},{"$f":"K54+J55","v":"14:08:00"}]
[null,"SS 11","OLD STATE-HUFF",9.0500000000000007,null,null,"00:03:00","00:15:00",null,null,{"$f":"K55+G56","v":"14:11:00"}]
[null,12,null,null,0.98,{"$f":"D56+E57","v":10.030000000000001},null,null,"00:07:00",{"$f":"H56+I57","v":"00:22:00"},{"$f":"K56+J57","v":"14:33:00"}]
[null,"SS 12","CAMP 30",14.97,null,null,"00:03:00","00:24:00",null,null,{"$f":"K57+G58","v":"14:36:00"}]
[null,13,null,null,4.7699999999999996,{"$f":"D58+E59","v":19.740000000000002},null,null,"00:13:00",{"$f":"H58+I59","v":"00:37:00"},{"$f":"K58+J59","v":"15:13:00"}]
[null,"SS 13","MILLS-MEAFORD",6.72,null,null,"00:03:00","00:11:00",null,null,{"$f":"K59+G60","v":"15:16:00"}]
[null,"13A","SERVICE IN",null,7.12,{"$f":"D60+E61","v":13.84},null,null,"00:17:00",{"$f":"H60+I61","v":"00:28:00"},{"$f":"K60+J61","v":"15:44:00"}]
[null,null,"SERVICE B (Atlanta)",{"$f":"-SUM(D52:D61)","v":-38.049999999999997},{"$f":"-SUM(E52:E61)","v":-26.44},-59.06,{"$nulls":5},"Section 4"]
[null,"13B","SERVICE OUT -- REGROUPING IN",{"$nulls":5},"00:45:00","00:45:00",{"$f":"K61+J63","v":"16:29:00"}]
[null,"RZ","REFUEL"]
[null,2,"distance to next refuel",{"$f":"-SUM(D66:D71)","v":-19.87},{"$f":"-SUM(E66:E71)","v":-35.340000000000003},-40.700000000000003]
[null,"13C","REGROUPING OUT",{"$nulls":5},"00:19:00","00:19:00",{"$f":"K63+J66","v":"16:48:00"}]
[null,14,null,null,14.51,null,null,null,"00:26:00",{"$f":"H66+I67","v":"00:26:00"},{"$f":"K66+J67","v":"17:14:00"}]
[null,"SS14","CAMP 30",14.97,null,null,"00:03:00","00:24:00",null,null,{"$f":"K67+G68","v":"17:17:00"}]
[null,15,null,null,9.34,{"$f":"D68+E69","v":24.310000000000002},null,null,"00:20:00",{"$f":"H68+I69","v":"00:44:00"},{"$f":"K68+J69","v":"18:01:00"}]
[null,"SS15","THUNDER RIVER",4.9000000000000004,null,null,"00:03:00","00:07:00",null,null,{"$f":"K69+G70","v":"18:04:00"}]
[null,"15A","MTC IN (Hillman)",null,11.49,{"$f":"D70+E71","v":16.39},null,null,"00:23:00",{"$f":"H70+I71","v":"00:30:00"},{"$f":"K70+J71","v":"18:34:00"}]
[]
[null,null,"Leg 2 Totals",{"$f":"-D65-D51-D40","v":81},{"$f":"-E65-E51-E40","v":90.76},145.07]

{"sheet":"Operations Schedule","index":1,"n_rows":45,"n_cols":35,"rows_kept":45,"cut":false,"hidden":false,"merged":[]}
[60,{"$f":"'Stage Schedule'!B10","v":"TC"},{"$f":"'Stage Schedule'!C10","v":"LOCATION"},{"$f":"'Stage Schedule'!D10","v":"SS DIST"},{"$f":"'Stage Schedule'!E10","v":"TRANSIT DIST"},{"$f":"'Stage Schedule'!F10","v":"TOTAL DIST"},{"$f":"'Stage Schedule'!G10","v":"CONTROL"},"HOT TIME",{"$f":"'Stage Schedule'!H10","v":"LATENESS TIME"},{"$f":"'Stage Schedule'!I10","v":"TRANSIT TIME"},{"$f":"'Stage Schedule'!J10","v":"TARGET TIME"},{"$f":"'Stage Schedule'!K10","v":"FIRST CAR DUE"},"FIRST CAR FINISH","LAST CAR START","LAST CAR FINISH","PICKUP","MI. TO STAGE","TRAVEL + SETUP TIME","LEAVE PICKUP","SPECT MANNED","STAGE MANNED","STAGE TEAM","000 START","000 TEAM","000 FINISH","00 START","00 TEAM","00 FINISH","0 START","0 FINISH","SAFETY SWEEP START","SAFETY SWEEP FINISH","SLOW SWEEP START","SLOW SWEEP TEAM","SLOW SWEEP FINISH"]
[{"$nulls":17},"30/12 mph",{"$nulls":4},1.8,null,null,1.4,null,null,1.1000000000000001,null,null,1.1000000000000001,null,null,2]
["CARS",{"$f":"'Stage Schedule'!B12","v":0},{"$f":"'Stage Schedule'!C12","v":"MTC OUT (Lewiston)"},{"$nulls":8},{"$f":"'Stage Schedule'!K12","v":"16:00:00"},{"$nulls":8},{"$f":"L3-30/60/24","v":"15:30:00"}]
[null,{"$f":"'Stage Schedule'!B14","v":1},null,null,{"$f":"'Stage Schedule'!E14","v":6.31},{"$f":"'Stage Schedule'!F14","v":6.31},null,null,null,{"$f":"'Stage Schedule'!I14","v":"00:15:00"},{"$f":"'Stage Schedule'!J14","v":"00:15:00"},{"$f":"'Stage Schedule'!K14","v":"16:15:00"}]
[null,{"$f":"'Stage Schedule'!B15","v":"SS 1"},{"$f":"'Stage Schedule'!C15","v":"FISHLAB-GREASY"},{"$f":"'Stage Schedule'!D15","v":8.16},null,null,{"$f":"'Stage Schedule'!G15","v":"00:03:00"},10.006944444444445,{"$f":"'Stage Schedule'!H15","v":"00:15:00"},null,null,{"$f":"'Stage Schedule'!K15","v":"16:18:00"},{"$f":"L5+H5","v":10.686111111111112},{"$f":"L5+$A$1/60/24","v":"17:18:00"},{"$f":"N5+I5","v":"17:33:00"},"Lewiston",6,{"$f":"Q5*2+D5*5","v":52.8},{"$f":"U5-R5/60/24","v":"13:47:42"},{"$f":"L5-2.5/24","v":"13:48:00"},{"$f":"W5-15/60/24","v":"14:40:30"},"A",{"$f":"Z5-I5*W$2-5/60/24","v":"14:55:30"},"A",{"$f":"W5+I5*W$2","v":"15:22:30"},{"$f":"AC5-I5*Z$2-5/60/24","v":"15:27:30"},"A",{"$f":"Z5+I5*Z$2","v":"15:48:30"},{"$f":"L4-I5*AC$2-5/60/24","v":"15:53:30"},{"$f":"AC5+I5*AC$2","v":"16:10:00"},{"$f":"N5+1/60/24","v":"17:19:00"},{"$f":"AE5+$I5*AF$2","v":"17:35:30"},{"$f":"N5+2/60/24","v":"17:20:00"},"A",{"$f":"AG5+$I5*AI2","v":"17:50:00"}]
[null,{"$f":"'Stage Schedule'!B16","v":2},null,null,{"$f":"'Stage Schedule'!E16","v":5.23},{"$f":"'Stage Schedule'!F16","v":13.39},null,null,null,{"$f":"'Stage Schedule'!I16","v":"00:15:00"},{"$f":"'Stage Schedule'!J16","v":"00:30:00"},{"$f":"'Stage Schedule'!K16","v":"16:48:00"}]
[null,{"$f":"'Stage Schedule'!B17","v":"SS2"},{"$f":"'Stage Schedule'!C17","v":"SHORT RANCH"},{"$f":"'Stage Schedule'!D17","v":3.29},null,null,{"$f":"'Stage Schedule'!G17","v":"00:03:00"},10.003472222222221,{"$f":"'Stage Schedule'!H17","v":"00:07:00"},null,null,{"$f":"'Stage Schedule'!K17","v":"16:51:00"},{"$f":"L7+H7","v":10.705555555555554},{"$f":"L7+$A$1/60/24","v":"17:51:00"},{"$f":"N7+I7","v":"17:58:00"},"Lewiston",16,{"$f":"Q7*2+D7*5","v":48.45},{"$f":"U7-R7/60/24","v":"14:59:27"},"n/a",{"$f":"W7-15/60/24","v":"15:47:54"},"B",{"$f":"Z7-I7*W$2-5/60/24","v":"16:02:54"},"B",{"$f":"W7+I7*W$2","v":"16:15:30"},{"$f":"AC7-I7*Z$2-5/60/24","v":"16:20:30"},"B",{"$f":"Z7+I7*Z$2","v":"16:30:18"},{"$f":"L6-I7*AC$2-5/60/24","v":"16:35:18"},{"$f":"AC7+I7*AC$2","v":"16:43:00"},{"$f":"N7+1/60/24","v":"17:52:00"},{"$f":"AE7+$I7*AF$2","v":"17:59:42"},{"$f":"N7+2/60/24","v":"17:53:00"},"B",{"$f":"AG7+$I7*AI4","v":"17:53:00"}]
[null,{"$f":"'Stage Schedule'!B18","v":3},null,null,{"$f":"'Stage Schedule'!E18","v":8.93},{"$f":"'Stage Schedule'!F18","v":12.219999999999999},null,null,null,{"$f":"'Stage Schedule'!I18","v":"00:18:00"},{"$f":"'Stage Schedule'!J18","v":"00:25:00"},{"$f":"'Stage Schedule'!K18","v":"17:16:00"}]
[null,{"$f":"'Stage Schedule'!B19","v":"SS 3"},{"$f":"'Stage Schedule'!C19","v":"SAGE-ORCHARD"},{"$f":"'Stage Schedule'!D19","v":7.09},null,null,{"$f":"'Stage Schedule'!G19","v":"00:03:00"},10.005555555555556,{"$f":"'Stage Schedule'!H19","v":"00:12:00"},null,null,{"$f":"'Stage Schedule'!K19","v":"17:19:00"},{"$f":"L9+H9","v":10.727083333333335},{"$f":"L9+$A$1/60/24","v":"18:19:00"},{"$f":"N9+I9","v":"18:31:00"},"Lewiston",12,{"$f":"Q9*2+D9*5","v":59.45},{"$f":"U9-R9/60/24","v":"14:54:57"},{"$f":"L9-2.5/24","v":"14:49:00"},{"$f":"W9-15/60/24","v":"15:54:24"},"C",{"$f":"Z9-I9*W$2-5/60/24","v":"16:09:24"},"A",{"$f":"W9+I9*W$2","v":"16:31:00"},{"$f":"AC9-I9*Z$2-5/60/24","v":"16:36:00"},"A",{"$f":"Z9+I9*Z$2","v":"16:52:48"},{"$f":"L8-I9*AC$2-5/60/24","v":"16:57:48"},{"$f":"AC9+I9*AC$2","v":"17:11:00"},{"$f":"N9+1/60/24","v":"18:20:00"},{"$f":"AE9+$I9*AF$2","v":"18:33:12"},{"$f":"N9+2/60/24","v":"18:21:00"},"A",{"$f":"AG9+$I9*AI6","v":"18:21:00"}]
[null,{"$f":"'Stage Schedule'!B20","v":"3A"},{"$f":"'Stage Schedule'!C20","v":"TZ IN"},null,{"$f":"'Stage Schedule'!E20","v":5.53},{"$f":"'Stage Schedule'!F20","v":12.620000000000001},null,null,null,{"$f":"'Stage Schedule'!I20","v":"00:15:00"},{"$f":"'Stage Schedule'!J20","v":"00:27:00"},{"$f":"'Stage Schedule'!K20","v":"17:46:00"},{"$f":"L10+H10","v":"17:46:00"},{"$f":"L10+$A$1/60/24","v":"18:46:00"},{"$f":"N10+I10","v":"18:46:00"},{"$nulls":5},{"$f":"L10-30/60/24","v":"17:16:00"}]
[null,{"$f":"'Stage Schedule'!B22","v":"3B"},{"$f":"'Stage Schedule'!C22","v":"TZ OUT -- REGROUPING IN"},null,{"$f":"'Stage Schedule'!E22","v":0.06},{"$nulls":5},{"$f":"'Stage Schedule'!J22","v":"00:15:00"},{"$f":"'Stage Schedule'!K22","v":"18:01:00"},{"$f":"L11+H11","v":"18:01:00"},{"$f":"L11+$A$1/60/24","v":"19:01:00"},{"$f":"N11+I11","v":"19:01:00"},{"$nulls":5},"17:31:00"]
[null,{"$f":"'Stage Schedule'!B23","v":"3C"},{"$f":"'Stage Schedule'!C23","v":"REGROUPING OUT"},null,{"$f":"'Stage Schedule'!E23","v":7.0000000000000007E-2},{"$nulls":5},{"$f":"'Stage Schedule'!J23","v":"00:14:00"},{"$f":"'Stage Schedule'!K23","v":"18:15:00"},"18:15:00","19:15:00","19:15:00",{"$nulls":5},"17:45:00"]
[null,{"$f":"'Stage Schedule'!B24","v":4},null,null,{"$f":"'Stage Schedule'!E24","v":6.31},{"$f":"'Stage Schedule'!F24","v":6.4399999999999995},null,null,null,{"$f":"'Stage Schedule'!I24","v":"00:15:00"},{"$f":"'Stage Schedule'!J24","v":"00:15:00"},{"$f":"'Stage Schedule'!K24","v":"18:30:00"}]
[null,{"$f":"'Stage Schedule'!B25","v":"SS 4"},{"$f":"'Stage Schedule'!C25","v":"FISHLAB-GREASY"},{"$f":"'Stage Schedule'!D25","v":8.16},null,null,{"$f":"'Stage Schedule'!G25","v":"00:03:00"},10.006944444444445,{"$f":"'Stage Schedule'!H25","v":"00:15:00"},null,null,{"$f":"'Stage Schedule'!K25","v":"18:33:00"},{"$f":"L14+H14","v":10.779861111111112},{"$f":"L14+$A$1/60/24","v":"19:33:00"},{"$f":"N14+I14","v":"19:48:00"},{"$nulls":4},"SS 1",{"$f":"W14-15/60/24","v":"17:05:30"},"A",{"$f":"Z14-I14*W$2-0/60/24","v":"17:20:30"},"B",{"$f":"W14+I14*W$2","v":"17:47:30"},{"$f":"AC14-I14*Z$2-0/60/24","v":"17:47:30"},"B",{"$f":"Z14+I14*Z$2","v":"18:08:30"},{"$f":"L13-I14*AC$2-5/60/24","v":"18:08:30"},{"$f":"AC14+I14*AC$2","v":"18:25:00"},{"$f":"N14+1/60/24","v":"19:34:00"},{"$f":"AE14+$I14*AF$2","v":"19:50:30"},{"$f":"N14+2/60/24","v":"19:35:00"},"B",{"$f":"AG14+$I14*AI11","v":"19:35:00"}]
[null,{"$f":"'Stage Schedule'!B26","v":5},null,null,{"$f":"'Stage Schedule'!E26","v":5.23},{"$f":"'Stage Schedule'!F26","v":13.39},null,null,null,{"$f":"'Stage Schedule'!I26","v":"00:15:00"},{"$f":"'Stage Schedule'!J26","v":"00:30:00"},{"$f":"'Stage Schedule'!K26","v":"19:03:00"}]
[null,{"$f":"'Stage Schedule'!B27","v":"SS 5"},{"$f":"'Stage Schedule'!C27","v":"SHORT RANCH"},{"$f":"'Stage Schedule'!D27","v":3.29},null,null,{"$f":"'Stage Schedule'!G27","v":"00:03:00"},10.003472222222221,{"$f":"'Stage Schedule'!H27","v":"00:07:00"},null,null,{"$f":"'Stage Schedule'!K27","v":"19:06:00"},{"$f":"L16+H16","v":10.799305555555554},{"$f":"L16+$A$1/60/24","v":"20:06:00"},{"$f":"N16+I16","v":"20:13:00"},{"$nulls":4},"n/a",{"$f":"W16-15/60/24","v":"18:12:54"},"B",{"$f":"Z16-I16*W$2-0/60/24","v":"18:27:54"},"A",{"$f":"W16+I16*W$2","v":"18:40:30"},{"$f":"AC16-I16*Z$2-5/60/24","v":"18:40:30"},"A",{"$f":"Z16+I16*Z$2","v":"18:50:18"},{"$f":"L15-I16*AC$2-0/60/24","v":"18:55:18"},{"$f":"AC16+I16*AC$2","v":"19:03:00"},{"$f":"N16+1/60/24","v":"20:07:00"},{"$f":"AE16+$I16*AF$2","v":"20:14:42"},{"$f":"N16+2/60/24","v":"20:08:00"},"A",{"$f":"AG16+$I16*AI13","v":"20:08:00"}]
[null,{"$f":"'Stage Schedule'!B28","v":6},null,null,{"$f":"'Stage Schedule'!E28","v":8.93},{"$f":"'Stage Schedule'!F28","v":12.219999999999999},null,null,null,{"$f":"'Stage Schedule'!I28","v":"00:18:00"},{"$f":"'Stage Schedule'!J28","v":"00:25:00"},{"$f":"'Stage Schedule'!K28","v":"19:31:00"}]
[null,{"$f":"'Stage Schedule'!B29","v":"SS 6"},{"$f":"'Stage Schedule'!C29","v":"SAGE-ORCHARD"},{"$f":"'Stage Schedule'!D29","v":7.09},null,null,{"$f":"'Stage Schedule'!G29","v":"00:03:00"},10.005555555555556,{"$f":"'Stage Schedule'!H29","v":"00:12:00"},null,null,{"$f":"'Stage Schedule'!K29","v":"19:34:00"},{"$f":"L18+H18","v":10.820833333333335},{"$f":"L18+$A$1/60/24","v":"20:34:00"},{"$f":"N18+I18","v":"20:46:00"},{"$nulls":4},"SS 3",{"$f":"W18-15/60/24","v":"18:19:24"},"C",{"$f":"Z18-I18*W$2-0/60/24","v":"18:34:24"},"B",{"$f":"W18+I18*W$2","v":"18:56:00"},{"$f":"AC18-I18*Z$2-0/60/24","v":"18:56:00"},"B",{"$f":"Z18+I18*Z$2","v":"19:12:48"},{"$f":"L17-I18*AC$2-5/60/24","v":"19:12:48"},{"$f":"AC18+I18*AC$2","v":"19:26:00"},{"$f":"N18+1/60/24","v":"20:35:00"},{"$f":"AE18+$I18*AF$2","v":"20:48:12"},{"$f":"N18+2/60/24","v":"20:36:00"},"B",{"$f":"AG18+$I18*AI15","v":"20:36:00"}]
[null,{"$f":"'Stage Schedule'!B30","v":"6A"},{"$f":"'Stage Schedule'!C30","v":"MTC IN (Lewiston)"},null,{"$f":"'Stage Schedule'!E30","v":5.43},{"$f":"'Stage Schedule'!F30","v":12.52},null,null,null,{"$f":"'Stage Schedule'!I30","v":"00:15:00"},{"$f":"'Stage Schedule'!J30","v":"00:27:00"},{"$f":"'Stage Schedule'!K30","v":"20:01:00"},{"$nulls":8},{"$f":"L19-30/60/24","v":"19:31:00"}]
[null,{"$f":"'Stage Schedule'!B39","v":"6B"},{"$f":"'Stage Schedule'!C39","v":"MTC OUT (Atlanta)"},{"$nulls":8},{"$f":"'Stage Schedule'!K39","v":"10:40:00"},{"$nulls":8},{"$f":"L20-30/60/24","v":"10:10:00"}]
[null,{"$f":"'Stage Schedule'!B41","v":7},null,null,{"$f":"'Stage Schedule'!E41","v":6.75},{"$nulls":4},{"$f":"'Stage Schedule'!I41","v":"00:15:00"},{"$f":"'Stage Schedule'!J41","v":"00:15:00"},{"$f":"'Stage Schedule'!K41","v":"10:55:00"}]
[null,{"$f":"'Stage Schedule'!B42","v":"SS 7"},{"$f":"'Stage Schedule'!C42","v":"HUNTERS-AGREN"},{"$f":"'Stage Schedule'!D42","v":7.31},null,null,{"$f":"'Stage Schedule'!G42","v":"00:03:00"},10.005555555555556,{"$f":"'Stage Schedule'!H42","v":"00:12:00"},null,null,{"$f":"'Stage Schedule'!K42","v":"10:58:00"},{"$f":"L22+H22","v":10.4625},{"$f":"L22+$A$1/60/24","v":"11:58:00"},{"$f":"N22+I22","v":"12:10:00"},"Lewiston",8,{"$f":"Q22*2+D22*5","v":52.55},{"$f":"U22-R22/60/24","v":"08:40:51"},"n/a",{"$f":"W22-15/60/24","v":"09:33:24"},1,{"$f":"Z22-I22*W$2-5/60/24","v":"09:48:24"},"A",{"$f":"W22+I22*W$2","v":"10:10:00"},{"$f":"AC22-I22*Z$2-5/60/24","v":"10:15:00"},"A",{"$f":"Z22+I22*Z$2","v":"10:31:48"},{"$f":"L21-I22*AC$2-5/60/24","v":"10:36:48"},{"$f":"AC22+I22*AC$2","v":"10:50:00"},{"$f":"N22+1/60/24","v":"11:59:00"},{"$f":"AE22+$I22*AF$2","v":"12:12:12"},{"$f":"N22+2/60/24","v":"12:00:00"},"A",{"$f":"AG22+$I22*AI19","v":"12:00:00"}]
[null,{"$f":"'Stage Schedule'!B43","v":8},null,null,{"$f":"'Stage Schedule'!E43","v":8.14},{"$f":"'Stage Schedule'!F43","v":15.45},null,null,null,{"$f":"'Stage Schedule'!I43","v":"00:17:00"},{"$f":"'Stage Schedule'!J43","v":"00:29:00"},{"$f":"'Stage Schedule'!K43","v":"11:27:00"}]
[null,{"$f":"'Stage Schedule'!B44","v":"SS 8"},{"$f":"'Stage Schedule'!C44","v":"OLD STATE-HUFF"},{"$f":"'Stage Schedule'!D44","v":9.0500000000000007},null,null,{"$f":"'Stage Schedule'!G44","v":"00:03:00"},10.006944444444445,{"$f":"'Stage Schedule'!H44","v":"00:15:00"},null,null,{"$f":"'Stage Schedule'!K44","v":"11:30:00"},{"$f":"L24+H24","v":10.486111111111111},{"$f":"L24+$A$1/60/24","v":"12:30:00"},{"$f":"N24+I24","v":"12:45:00"},"Big Rock",2,{"$f":"Q24*2+D24*5","v":49.25},{"$f":"U24-R24/60/24","v":"09:03:15"},{"$f":"L24-2.5/24","v":"09:00:00"},{"$f":"W24-15/60/24","v":"09:52:30"},2,{"$f":"Z24-I24*W$2-5/60/24","v":"10:07:30"},"B",{"$f":"W24+I24*W$2","v":"10:34:30"},{"$f":"AC24-I24*Z$2-5/60/24","v":"10:39:30"},"B",{"$f":"Z24+I24*Z$2","v":"11:00:30"},{"$f":"L23-I24*AC$2-5/60/24","v":"11:05:30"},{"$f":"AC24+I24*AC$2","v":"11:22:00"},{"$f":"N24+1/60/24","v":"12:31:00"},{"$f":"AE24+$I24*AF$2","v":"12:47:30"},{"$f":"N24+2/60/24","v":"12:32:00"},"B",{"$f":"AG24+$I24*AI21","v":"12:32:00"}]
[null,{"$f":"'Stage Schedule'!B45","v":9},null,null,{"$f":"'Stage Schedule'!E45","v":6.97},{"$f":"'Stage Schedule'!F45","v":16.02},null,null,null,{"$f":"'Stage Schedule'!I45","v":"00:17:00"},{"$f":"'Stage Schedule'!J45","v":"00:32:00"},{"$f":"'Stage Schedule'!K45","v":"12:02:00"}]
[null,{"$f":"'Stage Schedule'!B46","v":"SS 9"},{"$f":"'Stage Schedule'!C46","v":"MILLS-MEAFORD"},{"$f":"'Stage Schedule'!D46","v":6.72},null,null,{"$f":"'Stage Schedule'!G46","v":"00:03:00"},10.005555555555556,{"$f":"'Stage Schedule'!H46","v":"00:11:00"},null,null,{"$f":"'Stage Schedule'!K46","v":"12:05:00"},{"$f":"L26+H26","v":10.509027777777778},{"$f":"L26+$A$1/60/24","v":"13:05:00"},{"$f":"N26+I26","v":"13:16:00"},"Atlanta",12,{"$f":"Q26*2+D26*5","v":57.6},{"$f":"U26-R26/60/24","v":"09:47:06"},{"$f":"L26-2.5/24","v":"09:35:00"},{"$f":"W26-15/60/24","v":"10:44:42"},3,{"$f":"Z26-I26*W$2-5/60/24","v":"10:59:42"},"A",{"$f":"W26+I26*W$2","v":"11:19:30"},{"$f":"AC26-I26*Z$2-5/60/24","v":"11:24:30"},"A",{"$f":"Z26+I26*Z$2","v":"11:39:54"},{"$f":"L25-I26*AC$2-5/60/24","v":"11:44:54"},{"$f":"AC26+I26*AC$2","v":"11:57:00"},{"$f":"N26+1/60/24","v":"13:06:00"},{"$f":"AE26+$I26*AF$2","v":"13:18:06"},{"$f":"N26+2/60/24","v":"13:07:00"},"A",{"$f":"AG26+$I26*AI23","v":"13:07:00"}]
[null,{"$f":"'Stage Schedule'!B47","v":"9A"},{"$f":"'Stage Schedule'!C47","v":"SERVICE IN"},null,{"$f":"'Stage Schedule'!E47","v":7.12},{"$f":"'Stage Schedule'!F47","v":13.84},null,null,null,{"$f":"'Stage Schedule'!I47","v":"00:17:00"},{"$f":"'Stage Schedule'!J47","v":"00:28:00"},{"$f":"'Stage Schedule'!K47","v":"12:33:00"},{"$nulls":8},{"$f":"L27-30/60/24","v":"12:03:00"}]
[null,{"$f":"'Stage Schedule'!B49","v":"9B"},{"$f":"'Stage Schedule'!C49","v":"SERVICE OUT -- REGROUPING IN"},{"$nulls":7},{"$f":"'Stage Schedule'!J49","v":"00:35:00"},{"$f":"'Stage Schedule'!K49","v":"13:08:00"},{"$nulls":8},{"$f":"L28-45/60/24","v":"12:23:00"}]
[null,{"$f":"'Stage Schedule'!B52","v":"9C"},{"$f":"'Stage Schedule'!C52","v":"REGROUPING OUT"},{"$nulls":7},{"$f":"'Stage Schedule'!J52","v":"00:14:00"},{"$f":"'Stage Schedule'!K52","v":"13:22:00"},{"$nulls":8},{"$f":"L29-45/60/24","v":"12:37:00"}]
[null,{"$f":"'Stage Schedule'!B53","v":10},null,null,{"$f":"'Stage Schedule'!E53","v":5.43},{"$nulls":4},{"$f":"'Stage Schedule'!I53","v":"00:14:00"},{"$f":"'Stage Schedule'!J53","v":"00:14:00"},{"$f":"'Stage Schedule'!K53","v":"13:36:00"}]
[null,{"$f":"'Stage Schedule'!B54","v":"SS 10"},{"$f":"'Stage Schedule'!C54","v":"HUNTERS-AGREN"},{"$f":"'Stage Schedule'!D54","v":7.31},null,null,{"$f":"'Stage Schedule'!G54","v":"00:03:00"},10.005555555555556,{"$f":"'Stage Schedule'!H54","v":"00:12:00"},null,null,{"$f":"'Stage Schedule'!K54","v":"13:39:00"},{"$f":"L31+H31","v":10.574305555555556},{"$f":"L31+$A$1/60/24","v":"14:39:00"},{"$f":"N31+I31","v":"14:51:00"},{"$nulls":4},"n/a",{"$f":"W31-15/60/24","v":"12:19:24"},1,{"$f":"Z31-I31*W$2-0/60/24","v":"12:34:24"},"B",{"$f":"W31+I31*W$2","v":"12:56:00"},{"$f":"AC31-I31*Z$2-5/60/24","v":"12:56:00"},"B",{"$f":"Z31+I31*Z$2","v":"13:12:48"},{"$f":"L30-I31*AC$2-5/60/24","v":"13:17:48"},{"$f":"AC31+I31*AC$2","v":"13:31:00"},{"$f":"N31+1/60/24","v":"14:40:00"},{"$f":"AE31+$I31*AF$2","v":"14:53:12"},{"$f":"N31+2/60/24","v":"14:41:00"},"B",{"$f":"AG31+$I31*AI28","v":"14:41:00"}]
[null,{"$f":"'Stage Schedule'!B55","v":11},null,null,{"$f":"'Stage Schedule'!E55","v":8.14},{"$f":"'Stage Schedule'!F55","v":15.45},null,null,null,{"$f":"'Stage Schedule'!I55","v":"00:17:00"},{"$f":"'Stage Schedule'!J55","v":"00:29:00"},{"$f":"'Stage Schedule'!K55","v":"14:08:00"}]
[null,{"$f":"'Stage Schedule'!B56","v":"SS 11"},{"$f":"'Stage Schedule'!C56","v":"OLD STATE-HUFF"},{"$f":"'Stage Schedule'!D56","v":9.0500000000000007},null,null,{"$f":"'Stage Schedule'!G56","v":"00:03:00"},10.006944444444445,{"$f":"'Stage Schedule'!H56","v":"00:15:00"},null,null,{"$f":"'Stage Schedule'!K56","v":"14:11:00"},{"$f":"L33+H33","v":10.597916666666666},{"$f":"L33+$A$1/60/24","v":"15:11:00"},{"$f":"N33+I33","v":"15:26:00"},{"$nulls":4},"SS 8",{"$f":"W33-15/60/24","v":"12:38:30"},2,{"$f":"Z33-I33*W$2-0/60/24","v":"12:53:30"},"A",{"$f":"W33+I33*W$2","v":"13:20:30"},{"$f":"AC33-I33*Z$2-5/60/24","v":"13:20:30"},"A",{"$f":"Z33+I33*Z$2","v":"13:41:30"},{"$f":"L32-I33*AC$2-5/60/24","v":"13:46:30"},{"$f":"AC33+I33*AC$2","v":"14:03:00"},{"$f":"N33+1/60/24","v":"15:12:00"},{"$f":"AE33+$I33*AF$2","v":"15:28:30"},{"$f":"N33+2/60/24","v":"15:13:00"},"A",{"$f":"AG33+$I33*AI30","v":"15:13:00"}]
[null,{"$f":"'Stage Schedule'!B57","v":12},null,null,{"$f":"'Stage Schedule'!E57","v":0.98},{"$f":"'Stage Schedule'!F57","v":10.030000000000001},null,null,null,{"$f":"'Stage Schedule'!I57","v":"00:07:00"},{"$f":"'Stage Schedule'!J57","v":"00:22:00"},{"$f":"'Stage Schedule'!K57","v":"14:33:00"}]
[null,{"$f":"'Stage Schedule'!B58","v":"SS 12"},{"$f":"'Stage Schedule'!C58","v":"CAMP 30"},{"$f":"'Stage Schedule'!D58","v":14.97},null,null,{"$f":"'Stage Schedule'!G58","v":"00:03:00"},10.011111111111111,{"$f":"'Stage Schedule'!H58","v":"00:24:00"},null,null,{"$f":"'Stage Schedule'!K58","v":"14:36:00"},{"$f":"L35+H35","v":10.619444444444444},{"$f":"L35+$A$1/60/24","v":"15:36:00"},{"$f":"N35+I35","v":"16:00:00"},"Atlanta",13,{"$f":"Q35*2+D35*5","v":100.85000000000001},{"$f":"U35-R35/60/24","v":"10:38:57"},"n/a",{"$f":"W35-15/60/24","v":"12:19:48"},4,{"$f":"Z35-I35*W$2-5/60/24","v":"12:34:48"},"B",{"$f":"W35+I35*W$2","v":"13:18:00"},{"$f":"AC35-I35*Z$2-5/60/24","v":"13:23:00"},"B",{"$f":"Z35+I35*Z$2","v":"13:56:36"},{"$f":"L34-I35*AC$2-5/60/24","v":"14:01:36"},{"$f":"AC35+I35*AC$2","v":"14:28:00"},{"$f":"N35+1/60/24","v":"15:37:00"},{"$f":"AE35+$I35*AF$2","v":"16:03:24"},{"$f":"N35+2/60/24","v":"15:38:00"},"B",{"$f":"AG35+$I35*AI32","v":"15:38:00"}]
[null,{"$f":"'Stage Schedule'!B59","v":13},null,null,{"$f":"'Stage Schedule'!E59","v":4.7699999999999996},{"$f":"'Stage Schedule'!F59","v":19.740000000000002},null,null,null,{"$f":"'Stage Schedule'!I59","v":"00:13:00"},{"$f":"'Stage Schedule'!J59","v":"00:37:00"},{"$f":"'Stage Schedule'!K59","v":"15:13:00"}]
[null,{"$f":"'Stage Schedule'!B60","v":"SS 13"},{"$f":"'Stage Schedule'!C60","v":"MILLS-MEAFORD"},{"$f":"'Stage Schedule'!D60","v":6.72},null,null,{"$f":"'Stage Schedule'!G60","v":"00:03:00"},10.005555555555556,{"$f":"'Stage Schedule'!H60","v":"00:11:00"},null,null,{"$f":"'Stage Schedule'!K60","v":"15:16:00"},{"$f":"L37+H37","v":10.641666666666667},{"$f":"L37+$A$1/60/24","v":"16:16:00"},{"$f":"N37+I37","v":"16:27:00"},{"$nulls":4},"SS 9",{"$f":"W37-15/60/24","v":"14:00:42"},3,{"$f":"Z37-I37*W$2-0/60/24","v":"14:15:42"},"A",{"$f":"W37+I37*W$2","v":"14:35:30"},{"$f":"AC37-I37*Z$2-5/60/24","v":"14:35:30"},"A",{"$f":"Z37+I37*Z$2","v":"14:50:54"},{"$f":"L36-I37*AC$2-5/60/24","v":"14:55:54"},{"$f":"AC37+I37*AC$2","v":"15:08:00"},{"$f":"N37+1/60/24","v":"16:17:00"},{"$f":"AE37+$I37*AF$2","v":"16:29:06"},{"$f":"N37+2/60/24","v":"16:18:00"},"A",{"$f":"AG37+$I37*AI34","v":"16:18:00"}]
[null,{"$f":"'Stage Schedule'!B61","v":"13A"},{"$f":"'Stage Schedule'!C61","v":"SERVICE IN"},null,{"$f":"'Stage Schedule'!E61","v":7.12},{"$f":"'Stage Schedule'!F61","v":13.84},null,null,null,{"$f":"'Stage Schedule'!I61","v":"00:17:00"},{"$f":"'Stage Schedule'!J61","v":"00:28:00"},{"$f":"'Stage Schedule'!K61","v":"15:44:00"},{"$nulls":8},{"$f":"L38-30/60/24","v":"15:14:00"}]
[null,{"$f":"'Stage Schedule'!B63","v":"13B"},{"$f":"'Stage Schedule'!C63","v":"SERVICE OUT -- REGROUPING IN"},{"$nulls":7},{"$f":"'Stage Schedule'!J63","v":"00:45:00"},{"$f":"'Stage Schedule'!K63","v":"16:29:00"},{"$nulls":8},{"$f":"L39-45/60/24","v":"15:44:00"}]
[null,{"$f":"'Stage Schedule'!B66","v":"13C"},{"$f":"'Stage Schedule'!C66","v":"REGROUPING OUT"},{"$nulls":7},{"$f":"'Stage Schedule'!J66","v":"00:19:00"},{"$f":"'Stage Schedule'!K66","v":"16:48:00"},{"$nulls":8},{"$f":"L40-45/60/24","v":"16:03:00"}]
[null,{"$f":"'Stage Schedule'!B67","v":14},null,null,{"$f":"'Stage Schedule'!E67","v":14.51},{"$nulls":4},{"$f":"'Stage Schedule'!I67","v":"00:26:00"},{"$f":"'Stage Schedule'!J67","v":"00:26:00"},{"$f":"'Stage Schedule'!K67","v":"17:14:00"}]
[null,{"$f":"'Stage Schedule'!B68","v":"SS14"},{"$f":"'Stage Schedule'!C68","v":"CAMP 30"},{"$f":"'Stage Schedule'!D68","v":14.97},null,null,{"$f":"'Stage Schedule'!G68","v":"00:03:00"},10.011111111111111,{"$f":"'Stage Schedule'!H68","v":"00:24:00"},null,null,{"$f":"'Stage Schedule'!K68","v":"17:17:00"},{"$f":"L42+H42","v":10.731249999999999},{"$f":"L42+$A$1/60/24","v":"18:17:00"},{"$f":"N42+I42","v":"18:41:00"},{"$nulls":4},"n/a",{"$f":"W42-15/60/24","v":"15:05:48"},4,{"$f":"Z42-I42*W$2-0/60/24","v":"15:20:48"},"B",{"$f":"W42+I42*W$2","v":"16:04:00"},{"$f":"AC42-I42*Z$2-5/60/24","v":"16:04:00"},"B",{"$f":"Z42+I42*Z$2","v":"16:37:36"},{"$f":"L41-I42*AC$2-5/60/24","v":"16:42:36"},{"$f":"AC42+I42*AC$2","v":"17:09:00"},{"$f":"N42+1/60/24","v":"18:18:00"},{"$f":"AE42+$I42*AF$2","v":"18:44:24"},{"$f":"N42+2/60/24","v":"18:19:00"},"B",{"$f":"AG42+$I42*AI39","v":"18:19:00"}]
[null,{"$f":"'Stage Schedule'!B69","v":15},null,null,{"$f":"'Stage Schedule'!E69","v":9.34},{"$f":"'Stage Schedule'!F69","v":24.310000000000002},null,null,null,{"$f":"'Stage Schedule'!I69","v":"00:20:00"},{"$f":"'Stage Schedule'!J69","v":"00:44:00"},{"$f":"'Stage Schedule'!K69","v":"18:01:00"}]
[null,{"$f":"'Stage Schedule'!B70","v":"SS15"},{"$f":"'Stage Schedule'!C70","v":"THUNDER RIVER"},{"$f":"'Stage Schedule'!D70","v":4.9000000000000004},null,null,{"$f":"'Stage Schedule'!G70","v":"00:03:00"},10.005555555555556,{"$f":"'Stage Schedule'!H70","v":"00:07:00"},null,null,{"$f":"'Stage Schedule'!K70","v":"18:04:00"},{"$f":"L44+H44","v":10.758333333333335},{"$f":"L44+$A$1/60/24","v":"19:04:00"},{"$f":"N44+I44","v":"19:11:00"},"Atlanta",14,{"$f":"Q44*2+D44*5","v":52.5},{"$f":"U44-R44/60/24","v":"16:08:24"},{"$f":"L44-2.5/24","v":"15:34:00"},{"$f":"W44-15/60/24","v":"17:00:54"},1,{"$f":"Z44-I44*W$2-5/60/24","v":"17:15:54"},"A",{"$f":"W44+I44*W$2","v":"17:28:30"},{"$f":"AC44-I44*Z$2-5/60/24","v":"17:33:30"},"A",{"$f":"Z44+I44*Z$2","v":"17:43:18"},{"$f":"L43-I44*AC$2-5/60/24","v":"17:48:18"},{"$f":"AC44+I44*AC$2","v":"17:56:00"},{"$f":"N44+1/60/24","v":"19:05:00"},{"$f":"AE44+$I44*AF$2","v":"19:12:42"},{"$f":"N44+2/60/24","v":"19:06:00"},"A",{"$f":"AG44+$I44*AI41","v":"19:06:00"}]
[null,{"$f":"'Stage Schedule'!B71","v":"15A"},{"$f":"'Stage Schedule'!C71","v":"MTC IN (Hillman)"},null,{"$f":"'Stage Schedule'!E71","v":11.49},{"$f":"'Stage Schedule'!F71","v":16.39},null,null,null,{"$f":"'Stage Schedule'!I71","v":"00:23:00"},{"$f":"'Stage Schedule'!J71","v":"00:30:00"},{"$f":"'Stage Schedule'!K71","v":"18:34:00"},{"$nulls":8},{"$f":"L45-45/60/24","v":"17:49:00"}]